View In:
ArcGIS JavaScript
ArcGIS.com Map
ArcGIS Earth
ArcMap
View Footprint In:
ArcGIS.com Map
Service Description: SPCBroadbandAccessIndex_PolygonToRaster
Name: SPCBroadbandAccessIndex_PolygonToRaster
Description:
Single Fused Map Cache: false
Extent:
XMin: -80.51950042699997
YMin: 39.72067883300008
XMax: -78.79900042699997
YMax: 41.17312883300008
Spatial Reference: 4326
(4326)
Initial Extent:
XMin: -80.51950042699997
YMin: 39.72067883300008
XMax: -78.79900042699997
YMax: 41.17312883300008
Spatial Reference: 4326
(4326)
Full Extent:
XMin: -80.51950042699997
YMin: 39.72067883300008
XMax: -78.79900042699997
YMax: 41.17312883300008
Spatial Reference: 4326
(4326)
Pixel Size X: 5.0000000000000036E-5
Pixel Size Y: 4.999999999999996E-5
Band Count: 1
Pixel Type: F64
RasterFunction Infos: {"rasterFunctionInfos": [{
"name": "None",
"description": "",
"help": ""
}]}
Mensuration Capabilities: Basic
Has Histograms: true
Has Colormap: false
Has Multi Dimensions : false
Rendering Rule:
Min Scale: 0
Max Scale: 0
Copyright Text:
Service Data Type: esriImageServiceDataTypeGeneric
Min Values: 1
Max Values: 100
Mean Values: 60.56691994478384
Standard Deviation Values: 21.04091327474742
Object ID Field:
Fields:
None
Default Mosaic Method: Center
Allowed Mosaic Methods:
SortField:
SortValue: null
Mosaic Operator: First
Default Compression Quality: 75
Default Resampling Method: Bilinear
Max Record Count: null
Max Image Height: 4100
Max Image Width: 15000
Max Download Image Count: null
Max Mosaic Image Count: null
Allow Raster Function: true
Allow Compute TiePoints: false
Supports Statistics: false
Supports Advanced Queries: false
Use StandardizedQueries: true
Raster Type Infos:
Name: Raster Dataset
Description: Supports all ArcGIS Raster Datasets
Help:
Has Raster Attribute Table: false
Edit Fields Info: null
Ownership Based AccessControl For Rasters: null
Child Resources:
Info
Histograms
Key Properties
Legend
rasterFunctionInfos
Supported Operations:
Export Image
Identify
Measure
Compute Histograms
Compute Statistics Histograms
Get Samples
Compute Class Statistics
Query Boundary
Compute Pixel Location
Validate
Project